Workbook
Name Best_deal: #REF!
Name Best_deal: #REF!
Name Best_deal: #REF!
Name Best_deal: #REF!
Name Best_deal: #REF!
Name Best_deal: #REF!
Name Best_deal: #REF!
Name Best_deal: #REF!
Name Best_deal: #REF!
Name Best_deal: #REF!
Name Best_deal: #REF!
Name KIF조합수익률: #REF!
Name KIF조합수익률: #REF!
Name KIF조합수익률: #REF!
Name KIF조합수익률: #REF!
Name KIF조합수익률: #REF!
Name KIF조합수익률: #REF!
Name KIF조합수익률: #REF!
Name KIF조합수익률: #REF!
Name KIF조합수익률: #REF!
Name KOSPI: #REF!
Name KOSPI: #REF!
Name KOSPI: #REF!
Name KOSPI: #REF!
Name KOSPI: #REF!
Name KOSPI: #REF!
Name KOSPI: #REF!
Name KOSPI: #REF!
Name KOSPI: #REF!
Name KOSPI: #REF!
Name KOSPI: #REF!
Name KOSPI: #REF!
Name KOSPI: #REF!
Name KOSPI: #REF!
Name KOSPI: #REF!
Name KOSPI: #REF!
Name KOSPI: #REF!
Name KOSPI: #REF!
Name Team_Competency: #REF!
Name Team_Competency: #REF!
Name Team_Competency: #REF!
Name Team_Competency: #REF!
Name Team_Competency: #REF!
Name Team_Competency: #REF!
Name Team_Competency: #REF!
Name Team_Competency: #REF!
Name Team_Competency: #REF!
Name Team_Competency: #REF!
Name Team_Competency: #REF!
Name YESNO: #REF!
Name YESNO: #REF!
Name YESNO: #REF!
Name YESNO: #REF!
Name YESNO: #REF!
Name YESNO: #REF!
Name YESNO: #REF!
Name YESNO: #REF!
Name YESNO: #REF!
Name YESNO: #REF!
Name YESNO: #REF!

Sheet 콤보박스
A1: 유예기간부여 | B1: 5G | C1: LOC
A2: 주의촉구 | B2: 블록체인 | C2: LOI
A3: 시정명령 | B3: 빅데이터 | C3: 미정
A4: 경고 | B4: AI
A5: 경영개선명령
A6: 기타
A9: 대표펀드매니저
A10: 핵심운용인력
A13: 대표펀드매니저
A14: 핵심운용인력
A15: 심사역
A16: 기타
A18: 벤처투자조합 | C18: 디지털혁신(딥테크) | D18: 20000
A19: 신기술사업투자조합 | C19: 디지털혁신(일반) | D19: 10000
A20: 중소기업창업투자조합 | C20: 글로벌진출 | D20: 7000
A21: 한국벤처투자조합 | C21: 초기스타트업 | D21: 3000
A22: 농식품투자조합 | C22: 벤처리움
A23: PEF(창업벤처전용 등)
A24: 개인투자조합
A25: 기타(역외펀드 등) | C25: 발굴+심사
C26: 심사
C27: 대펀(총괄)
A29: IPO(코스닥 등) | C29: 여
A30: 코넥스 | C30: 부
A31: M&A
A32: SPAC상장
A33: 기타(해외상장 등)
A36: 프로젝트펀드
A37: 블라인드펀드

Sheet 작성안내
C3: □ 작성 Sheet 목록
C4: 표지
C5: 1-0. 제안펀드 구성
C6: 1-1. 펀드체계 제안
C7: 1-2. 재무실적
C8: 1-3. 준법성(위법사례)
C9: 1-4. 핵심운용인력 관리현황
C10: 1-5. 조합 결성내역
C11: 2-1. 청산펀드 총괄
C12: 2-1-1. 청산펀드 세부내역
C13: 2-2. 운용중인 펀드 총괄
C14: 2-2-1. 운용중인 펀드 세부내역
... C39: 14. 공동운용(Co-GP)로 제안시 운용사별로 각각 제출

Sheet 표지
A2: 2023년도 KIF 업무집행조합원 선정 제안서
B4: 제안사명 | D4: xxx 운용사
B5: 제안분야 | D5: 디지털혁신(딥테크)
B6: 대표펀드매니저 | D6: O O O
B7: 작성책임자 | C7: 성 명 | D7: O O O
C8: 연락처 | D8: 010-xxxx-xxxx
C9: 이메일 | D9: @
A11: * 본 자료에 허위사실 또는 중대한 오류가 발견되거나 고의적으로 자료를 누락한 것이 발견된 경우에는
A12: 선정취소 및 향후 출자 사업 참여제한, 손해배상 등이 있을 수 있음
E14: KIF 투자조합

Sheet 1-0.제안펀드 구성
B2: 제안사명 | C2: =표지!$D$4 -> xxx 운용사 | D2: 작성항목 | F2: 1-0. 제안펀드
B4: <작성방식>
B5: ■ KIF 출자약정액 : 디지털혁신(딥테크 200억원, 일반 100억), 글로벌진출(100억), 초기스타트업(70억원), 벤처리움(30억)
B6: ■ 업무집행조합원 출자약정액 : 약정총액의 1% 이상(공동GP인 경우 각 운용사 모두 1% 이상 출자약정)
B7: ■ 확약 여부 : 'LOC, LOI, 미정'으로 구분 작성
B8: ■ 금액은 백만원 단위로 기재하되, 백만원 이하금액은 소수점 첫째자리에서 반올림
B9: ■ 제시한 조합결성예정액을 조합 결성기일까지 미달하는 경우 선정 취소함
G10: (단위: 백만원, %)
B11: 출자자명 | C11: 출자약정액 | D11: 출자비율 | E11: 확약여부 | F11: 주목적분야/투자의무비율 | G11: 보수체계 등 특이사항 기재
B12: KIF투자조합 | C12: 20000 | D12: =C12/$C$18 -> 0.37735849 | E12: 미정 | F12: ➀약정총액 대비 비율(%), ➁KIF출자(약정)금의 배수 중 택1 하여 제안(단, 딥테크 분야는 총약정액의 70% 이상 투자하되 선택분야(운용사 제안)에 총약정액의 30% 이상 투자, ICT분야 규제샌드박스 기업에 30억 이상 투자)
B13: 업무집행조합원 | C13: 1000 | D13: =C13/$C$18 -> 0.018867925 | E13: LOC
B14: LP1 | C14: 12000 | D14: =C14/$C$18 -> 0.22641509 | E14: LOC | F14: OOO분야에 OO%이상 투자 | G14: 기준수익률(O%), 초과수익의 OO%
B15: LP2 | C15: 10000 | D15: =C15/$C$18 -> 0.18867925 | E15: LOI | F15: OOO분야에 OO%이상 투자 | G15: 기준수익률(O%), 초과수익의 OO%
B16: LP3 | C16: 10000 | D16: =C16/$C$18 -> 0.18867925 | E16: 미정 | F16: 투자제한 없음
B18: 합 계 | C18: =SUM(C12:C17) -> 53000 | D18: =SUM(D12:D17) -> 1
B20: 조합 결성 예정액* | C20: KIF 출자약정액 | D20: 타출자자 약정액 | E20: KIF 매칭비율
B21: =+C18 -> 53000 | C21: =C12 -> 20000 | D21: =+B21-C21 -> 33000 | E21: =C21/B21 -> 0.37735849

Sheet 1-1.펀드체계 제안
B2: 제안사명 | C2: =표지!$D$4 -> xxx 운용사 | D2: 작성항목 | E2: 1-1. 펀드체계 제안
B4: <작성방식>
B5: ■ 의무투자 금액(중점투자), 관리보수, 기준수익률, 성과보수(초과수익률)를 운용사가 자율 제안
B7: 구분 | C7: 제안내용
B8: KIF 중점투자 금액 (의무투자, 백만원) | C8: 예시 : 중점투자분야에 (택1) 펀드 결성총액(X,XXX억원)의 OO% 이상 (택2) KIF출자약정금(XXX억원)의 O배이상 투자 ※ KIF 출자약정금의 1배이상 제안 필수. 딥테크펀드는 펀드 결성총액(예정)의 70%에 해당하는 의무투자금액으로 기재
B9: 관리보수 | C9: 예시 : 약정총액(조합결성 후 O년 초과시 투자잔액)의 O% (KIF권고기준) 조합결성 3년 이내 약정총액의 2% 이하, 조합결성 후 3년 초과 : 투자잔액의 2% 이하, 구간별 요율 차등 가능
B10: 기준수익률(IRR) | C10: 예시 : O% (KIF권고기준) 7%. 단, 초기스타트업 : 5%, 벤처리움 : 3%
B11: 성과보수 | C11: 예시 : 기준수익률 초과시 초과이익의 OO% (KIF권고기준) 기준수익률 초과시 초과이익의 20%

Sheet 1-2.재무실적
B2: 제안사명 | C2: =표지!$D$4 -> xxx 운용사 | D2: 작성항목 | E2: 1-2. 재무실적
B4: <작성방식>
B5: ■ 금액은 백만원단위로 기재(소수점 첫째자리에서 반올림)
B6: ■ 산식변경 금지
F8: (단위: 백만원, %)
B9: 구 분 | C9: 2020 | D9: 2021 | E9: 2022 | F9: 비고
B10: 유동자산
B11: 유동부채
B12: 자산총계(A+B) | C12: =C14+C13 -> 0 | D12: =D14+D13 -> 0 | E12: =E14+E13 -> 0
B13: 부채총계(B)
B14: 자본총계(A)
B15: 영업수익
B16: 영업비용
B17: 당기순이익
B18: 영업이익률 (영업수익/영업비용) | C18: =C15/C16 -> #DIV/0! | D18: =D15/D16 -> #DIV/0! | E18: =E15/E16 -> #DIV/0!
B19: 자기자본순수익률 (당기순이익/자본총계) | C19: =C17/C14 -> #DIV/0! | D19: =D17/D14 -> #DIV/0! | E19: =E17/E14 -> #DIV/0!
B20: 부채비율 (부채총계/자본총계) | C20: =C13/C14 -> #DIV/0! | D20: =D13/D14 -> #DIV/0! | E20: =E13/E14 -> #DIV/0!
B21: 유동비율 (유동자산/유동부채) | C21: =C10/C11 -> #DIV/0! | D21: =D10/D11 -> #DIV/0! | E21: =E10/E11 -> #DIV/0!

Sheet 1-3.준법성
B2: 제안사명 | C2: =표지!$D$4 -> xxx 운용사 | D2: 작성항목 | E2: 1-3. 준법성(위법사례)
B4: <작성방식>
B5: ■ 대상기간 : 2020. 1. 1 ~ 공고전일
B6: ■ 운용사(임직원 및 기타 특수관계인 포함) 및 조합 운영 등과 관련된 위법사례에 대해 모두 기재(계류중인 민·형사건, 기사화된 건 등 포함)
B8: 조치구분 | C8: 시정명령일 | D8: 시정완료(예정)일 | E8: 위반내용 (구체적으로 기술)
B9: 경고 | C9: 43862 | D9: 43891
B10: 경영개선명령 | C10: 43891 | D10: 43922
B11: 주의촉구 | C11: 43922 | D11: 43983
B12: 시정명령 | C12: 43831 | D12: 44013

Sheet 1-4.핵심운용인력 관리현황
B2: 제안사명 | C2: =표지!$D$4 -> xxx 운용사 | E2: 작성항목 | F2: 1-4. 핵심운용인력 관리현황
B4: <작성방식>
B5: ■ 대상기간 : 2019. 1. 1 ~ 공고전일
B6: ■ 대상기간 내에 운용 중인 혹은 청산한 펀드 전체를 기재
B7: ■ "펀드 설립시 핵심운용인력"은 최초 규약상 핵심운용인력으로 명기된 모든 인력을 기재 (CO-GP사 운용인력 포함 기재)
B8: ■ 투자기구는 벤처투자조합, 한국벤처투자조합(KVF), 신기술사업투자조합, 기업구조조정투자(CRC) 등 관련 근거법령 상의 투자기구를 기입(콤보박스에 해당하는 투자기구만 기재)
P10: (단위: 백만원, 명)
B11: 구분 | C11: 투자기구 | D11: 펀드명 | E11: Co-GP여부 (Co-GP명) | F11: 성립일 | G11: 청산일 (or 예정일) | H11: 약정금액 | I11: 펀드 설립시(규약상) 핵심운용인력 | K11: 청산시(or 공고 전일)까지 유지된 핵심운용인력 | M11: 대펀변경여부 | O11: 운용인력 유지율 | P11: 변경사유 (Co-GP사 인력 여부 표시)
I12: 성명 | J12: 인원수 | K12: 성명 | L12: 인원수 | M12: 투자기간내 | N12: 투자기간후
B13: 청산펀드 | C13: 신기술사업투자조합 | D13: Fund 1호 | E13: N | F13: 42736 | G13: 46022 | H13: 25000 | I13: ex.홍길동, 김철수, 박영희 | J13: 3 | K13: ex. 홍길동, 김철수 | L13: 2 | N13: O | O13: =L13/J13 -> 0.66666667 | P13: 퇴사
B14: 청산펀드 | C14: 신기술사업투자조합 | D14: Fund 2호 | E14: N | F14: 43101 | G14: 46022 | H14: 25000 | I14: ex.홍길동, 김철수, 박영희 | J14: 3 | K14: ex.홍길동 | L14: 1 | M14: O | O14: =L14/J14 -> 0.33333333 | P14: 퇴사
B15: 청산펀드 | C15: 한국벤처투자조합 | D15: Fund 3호 | E15: Y(XXX사) | F15: 41640 | G15: 44377 | H15: 25000 | I15: ex.홍길동, 김철수, 전현무, 박나래 | J15: 4 | K15: ex.홍길동, 전현무 | L15: 2 | N15: O | O15: =L15/J15 -> 0.5 | P15: 퇴사(김철수), CO-GP사 인력변경(박나래)
B16: 청산펀드 | C16: PEF(창업벤처전용 등) | D16: Fund 4호 | F16: 43466 | G16: 청산중 | H16: 25000 | O16: =L16/J16 -> #DIV/0!
B17: 운용중펀드 | C17: 한국벤처투자조합 | D17: Fund 5호 | F17: 43101 | G17: 46022 | H17: 25000 | O17: =L17/J17 -> #DIV/0!
B18: 운용중펀드 | C18: 신기술사업투자조합 | D18: Fund 6호 | F18: 43466 | G18: 46387 | H18: 25000 | O18: =L18/J18 -> #DIV/0!
B19: 운용중펀드 | C19: 벤처투자조합 | D19: Fund 7호 | F19: 44197 | G19: 47483 | H19: 25000 | O19: =L19/J19 -> #DIV/0!
B20: 운용중펀드 | C20: 개인투자조합 | O20: =L20/J20 -> #DIV/0!
O21: =L21/J21 -> #DIV/0!
O22: =L22/J22 -> #DIV/0!
O23: =L23/J23 -> #DIV/0!
O24: =L24/J24 -> #DIV/0!
O25: =L25/J25 -> #DIV/0!
O26: =L26/J26 -> #DIV/0!
O27: =L27/J27 -> #DIV/0!
B29: 합계 | H29: =SUM(H13:H28) -> 175000 | O29: =SUMPRODUCT(H13:H27,O13:O27)/H29 -> #DIV/0!

Sheet 1-5.조합결성내역
B2: 제안사명 | C2: =표지!$D$4 -> xxx 운용사 | E2: 작성항목 | F2: 1-5. 조합 결성내역
B4: <작성방식>
B5: ■ 대상기간 : 2020. 1. 1 ~ 공고전일
B6: ■ 대상기간 내에 신규 결성한 조합 기재
H8: (단위: 백만원)
B9: 펀드명 | C9: 투자기구 | D9: 성립일 | E9: 결성금액 | F9: LP | G9: Co-GP여부 (Co-GP명) | H9: 핵심운용인력
B10: Fund 1호 | C10: 신기술사업투자조합 | D10: 42370 | E10: 30000 | F10: OOO, XXX | G10: N | H10: 홍길동, OOO, XXX
B11: Fund 2호 | C11: 신기술사업투자조합 | D11: 43466 | G11: Y(XXX사)
B12: Fund 3호 | C12: 신기술사업투자조합 | D12: 43831
B13: Fund 4호 | C13: 한국벤처투자조합 | D13: 44197
B14: Fund 5호 | C14: 신기술사업투자조합 | D14: 43831
B21: 합계 | E21: =SUM(E10:E19) -> 30000

Sheet 2-1.청산펀드 총괄
B2: 제안사명 | C2: =표지!$D$4 -> xxx 운용사 | G2: 작성항목 | H2: 2-1. 청산펀드 총괄
B4: <작성방식>
B5: ■ 대상기간 : 2017. 1. 1 ~ 공고전일
B6: ■ 대상기간 내에 청산 완료된 모든 펀드 기재(청산중인 펀드는 제외) ※성공, 실패 사례 모두 기재할 것
B7: ■ "분배금액* "은 관리보수 및 펀드운영 관련 제비용은 차감하되, 성과보수는 포함한 금액으로 기재 (수익금에 성과보수가 포함 되도록 기재)
B8: ■ 조합성격 : 블라인드 펀드(투자대상을 미리 확정하지 않고 조성되는 펀드), (프로젝트 펀드) 투자대상을 미리 확정한 이후 조성되는 펀드
B9: ■ 주요 투자분야 : 투자의 주목적이 문화컨텐츠인 경우 "문화"로 기술, 그 외는 투자분야 기재(창업초기, 디지털뉴딜, 소부장 등)
B10: ■ 공동운용사(Co-GP) 여부("Y","N")를 기재하고, "Y"일 경우 괄호에 해당 Co-GP명을 기재
B11: ■ 하단의 "청산펀드 운용수익률 (펀드별)" 자료에는 정확한 일자 및 금액 기재(IRR 계산에 사용된 일자 및 금액은 펀드통장사본 등 제출된 증빙서류를 통해 검증 가능해야 함)
B12: ■ 산식변경 금지 (단, 행이 부족한 경우 행삽입 가능)
B13: ■ 용어의 정의 : ① 약정금액 : 출자이행을 확약한 금액 ② 납입금액, 분배금액 : 실제 펀드에 납입된 금액과 펀드에서 분배한 금액 ③ 투자금액 : 펀드에서 실제 투자자산에 투자된 금액
O15: (단위: 백만원, %)
B16: 펀드명 | C16: 투자기구 | D16: 조합성격 | E16: 주요 투자분야 | F16: 성립일 | G16: 청산일 | H16: 약정금액 | I16: 납입금액 (A) | J16: 투자금액 | K16: 분배금액* (B) | L16: 수익금 (C=B-A) | M16: Multiple (D=B/A) | N16: IRR | O16: Co-GP여부 (Co-GP명)
B17: Fund 1호 | C17: 신기술사업투자조합 | D17: 블라인드펀드 | E17: ICT | F17: 40179 | G17: 43830 | H17: 25000 | I17: =SUMIF($B$36:$B$114,$B17,$D$36:$D$114) -> 8000 | J17: 18000 | K17: =SUMIF($B$36:$B$114,$B17,$E$36:$E$114) -> 13800 | L17: =K17-I17 -> 5800 | M17: =K17/I17 -> 1.725 | N17: =H54 -> 0.084557153 | O17: N
B18: Fund 2호 | C18: 한국벤처투자조합 | D18: 블라인드펀드 | E18: 문화 | F18: 40179 | G18: 43830 | H18: 25000 | I18: =SUMIF($B$36:$B$114,$B18,$D$36:$D$114) -> 11000 | J18: 18000 | K18: =SUMIF($B$36:$B$114,$B18,$E$36:$E$114) -> 14000 | L18: =K18-I18 -> 3000 | M18: =K18/I18 -> 1.2727273 | N18: =H74 -> 0.03660353 | O18: N
B19: Fund 3호 | C19: 중소기업창업투자조합 | D19: 블라인드펀드 | E19: 창업초기 | F19: 40179 | G19: 43830 | H19: 25000 | I19: =SUMIF($B$36:$B$114,$B19,$D$36:$D$114) -> 10000 | J19: 18000 | K19: =SUMIF($B$36:$B$114,$B19,$E$36:$E$114) -> 14000 | L19: =K19-I19 -> 4000 | M19: =K19/I19 -> 1.4 | N19: =H94 -> 0.050977417 | O19: Y(XXX사)
B20: Fund 4호 | C20: 벤처투자조합 | D20: 프로젝트펀드 | F20: 40179 | G20: 43830 | H20: 25000 | I20: =SUMIF($B$36:$B$114,$B20,$D$36:$D$114) -> 10000 | J20: 18000 | K20: =SUMIF($B$36:$B$114,$B20,$E$36:$E$114) -> 14500 | L20: =K20-I20 -> 4500 | M20: =K20/I20 -> 1.45 | N20: =H114 -> 0.057400864 | O20: N
B27: 합계 | H27: =SUM(H17:H25) -> 100000 | I27: =SUM(I17:I25) -> 39000 | J27: =SUM(J17:J25) -> 72000 | K27: =SUM(K17:K25) -> 56300 | L27: =SUM(L17:L25) -> 17300 | M27: =K27/I27 -> 1.4435897 | N27: =H34 -> 0.056231274
B28: 검증 | I28: =IF(I27-D34=0,"ok","error") -> ok | K28: =IF(K27-E34=0,"ok","error") -> ok | L28: =IF(L27-F34=0,"ok","error") -> ok | M28: =IF(M27-G34=0,"ok","error") -> ok | N28: =IF(N27-H34=0,"ok","error") -> ok
B31: □ 청산펀드별 현금흐름 및 수익률(IRR) (※ 분배금액에 성과보수 포함)
H32: (단위: 백만원, %)
B33: 펀드명 | C33: 일자 | D33: 납입금액 (A) | E33: 분배금액 (B) | F33: 수익금 (C=B-A) | G33: Multiple (D=B/A) | H33: IRR
B34: 전체 | D34: =SUM(D36:D114) -> 39000 | E34: =SUM(E36:E114) -> 56300 | F34: =SUM(F36:F114) -> 17300 | G34: =E34/D34 -> 1.4435897 | H34: =XIRR(F36:F114,C36:C114,0) -> 0.056231274
B36: Fund 1호 | C36: 40179 | D36: 1000 | F36: =-D36+E36 -> -1000
B37: Fund 1호 | C37: 40269 | D37: 1000 | F37: =-D37+E37 -> -1000
B38: Fund 1호 | C38: 40391 | D38: 1000 | F38: =-D38+E38 -> -1000
B39: Fund 1호 | C39: 40452 | D39: 1000 | F39: =-D39+E39 -> -1000
B40: Fund 1호 | C40: 40603 | D40: 1000 | F40: =-D40+E40 -> -1000
B41: Fund 1호 | C41: 40878 | D41: 1000 | F41: =-D41+E41 -> -1000
B42: Fund 1호 | C42: 41030 | D42: 1000 | F42: =-D42+E42 -> -1000
B43: Fund 1호 | C43: 41091 | D43: 1000 | F43: =-D43+E43 -> -1000
B44: Fund 1호 | C44: 42005 | E44: 500 | F44: =-D44+E44 -> 500
B45: Fund 1호 | C45: 42125 | E45: 500 | F45: =-D45+E45 -> 500
B46: Fund 1호 | C46: 42339 | E46: 500 | F46: =-D46+E46 -> 500
B47: Fund 1호 | C47: 42522 | E47: 500 | F47: =-D47+E47 -> 500
B48: Fund 1호 | C48: 42735 | E48: 1000 | F48: =-D48+E48 -> 1000
B49: Fund 1호 | C49: 42767 | E49: 1500 | F49: =-D49+E49 -> 1500
B50: Fund 1호 | C50: 42826 | E50: 1500 | F50: =-D50+E50 -> 1500
B51: Fund 1호 | C51: 42887 | E51: 1800 | F51: =-D51+E51 -> 1800
B52: Fund 1호 | C52: 43374 | E52: 2000 | F52: =-D52+E52 -> 2000
...

Sheet 2-1-1.청산펀드 세부내역
B2: 제안사명 | C2: =표지!$D$4 -> xxx 운용사 | F2: 작성항목 | G2: 2-1-1. 청산펀드 세부내역
B4: <작성방식>
B5: ■ 대상기간 : 2017. 1. 1 ~ 공고전일
B6: ■ 대상기간 내에 청산 완료된 모든 펀드 기재(청산중인 펀드는 제외) ※성공, 실패 사례 모두 기재할 것
B7: ■ 회수금은 현금 기준의 원금+총이익 (투자이익, 기타이익 등)을 기재
B8: ■ 투자형태는 보통주, RCPS, CB, BW 등 투자한 증권의 형태를 기재
B9: ■ 회수방법은 IPO, M&A, 만기상환, GP인수 등 실제 회수방식을 기재
B10: ■ 하단 표의 "투자원금"은 '2-2.청산펀드 총괄' Sheet의 "투자금액"과 일치 해야 함
B11: ■ ICT 여부는 산업분류에 따른 정보통신 관련 업종 및 사업내용에 ICT 융합 내용이 있을 경우 '여'로 표시
B12: ■ 산식변경 금지 (단, 행이 부족한 경우 행삽입 가능)
K14: (단위: 백만원, %)
B15: 펀드명 | C15: 투자자산 | D15: Multiple (B/A) | E15: 주요사업분야 | F15: ICT여부* | G15: 투자 일자 | H15: 회수 일자 | I15: 투자원금 (A) | J15: 회수금 (B) | K15: 투자형태 | L15: 회수방법
B16: Fund 1호 | C16: Company A | D16: =(J16)/I16 -> 1.1111111 | E16: 바이오 | F16: 부 | G16: 40544 | H16: 42369 | I16: 4500 | J16: 5000 | K16: 보통주 | L16: IPO
B17: Fund 1호 | C17: Company B | D17: =(J17)/I17 -> 1 | E17: 게임 | F17: 여 | G17: 40909 | H17: 43100 | I17: 6000 | J17: 6000 | K17: 보통주 | L17: M&A
B18: Fund 1호 | C18: Company C | D18: =(J18)/I18 -> 2.3333333 | E18: 교육 | F18: 여 | G18: 41275 | H18: 42369 | I18: 3000 | J18: 7000 | K18: RCPS | L18: GP인수
B19: Fund 1호 | C19: Company D | D19: =(J19)/I19 -> 1.7777778 | E19: IT제조 | F19: 여 | G19: 41640 | H19: 43830 | I19: 4500 | J19: 8000 | K19: CB | L19: 만기상환
B20: Fund 1호 | C20: Company E | D20: =(J20)/I20 -> 0.001 | E20: 헬스케어 | F20: 여 | G20: 41395 | H20: 43952 | I20: 1000 | J20: 1 | K20: RCPS | L20: 장외매각
B21: Fund 1호 | D21: =(J21)/I21 -> #DIV/0!
B22: Fund 1호 | D22: =(J22)/I22 -> #DIV/0!
B23: Fund 1호 | D23: =(J23)/I23 -> #DIV/0!
B24: Fund 1호 | D24: =(J24)/I24 -> #DIV/0!
B25: Fund 1호 | D25: =(J25)/I25 -> #DIV/0!
B26: Fund 1호 | D26: =(J26)/I26 -> #DIV/0!
B27: Fund 1호 | D27: =(J27)/I27 -> #DIV/0!
B28: Fund 1호 | D28: =(J28)/I28 -> #DIV/0!
B29: Fund 1호 | D29: =(J29)/I29 -> #DIV/0!
B30: Fund 1호 | D30: =(J30)/I30 -> #DIV/0!
B31: Fund 1호 | D31: =(J31)/I31 -> #DIV/0!
B32: 합계 | D32: =J32/I32 -> 1.3684737 | I32: =SUM(I16:I31) -> 19000 | J32: =SUM(J16:J31) -> 26001
L34: (단위: 백만원, %)
B35: 펀드명 | C35: 투자자산 | D35: Multiple (B/A) | E35: 주요사업분야 | G35: 투자 일자 | H35: 회수 일자 | I35: 투자원금 (A) | J35: 회수금 (B) | K35: 투자형태 | L35: 회수방법
B36: Fund 2호 | C36: Company A | D36: =(J36)/I36 -> 1.1111111 | E36: 바이오 | G36: 40544 | H36: 42369 | I36: 4500 | J36: 5000 | K36: 보통주 | L36: IPO
B37: Fund 2호 | C37: Company B | D37: =(J37)/I37 -> 1 | E37: 게임 | G37: 40909 | H37: 43100 | I37: 6000 | J37: 6000 | K37: 보통주 | L37: M&A
B38: Fund 2호 | C38: Company C | D38: =(J38)/I38 -> 2.3333333 | E38: 교육 | G38: 41275 | H38: 42369 | I38: 3000 | J38: 7000 | K38: RCPS | L38: GP인수
B39: Fund 2호 | C39: Company D | D39: =(J39)/I39 -> 1.7777778 | E39: IT제조 | G39: 41640 | H39: 43830 | I39: 4500 | J39: 8000 | K39: CB | L39: 만기상환
B40: Fund 2호 | D40: =(J40)/I40 -> #DIV/0!
B41: Fund 2호 | D41: =(J41)/I41 -> #DIV/0!
B42: Fund 2호 | D42: =(J42)/I42 -> #DIV/0!
B43: Fund 2호 | D43: =(J43)/I43 -> #DIV/0!
B44: Fund 2호 | D44: =(J44)/I44 -> #DIV/0!
...

Sheet 2-2.운용중인펀드 총괄
B2: 제안사명 | C2: =표지!$D$4 -> xxx 운용사 | G2: 작성항목 | H2: 2-2. 운용중인펀드 총괄
B4: <작성방식>
B5: ■ 공고전일 기준 운용중인 펀드(청산중인 펀드 포함) 기재
B6: ■ 용어의 정의 : ① 약정금액 : 출자이행을 확약한 금액 ② 납입금액 : 실제 펀드에 납입된 금액 ③ 투자금액 : 펀드에서 실제 투자자산에 투자된 금액
B7: ■ 조합성격 : 블라인드 펀드 : 투자대상을 미리 확정하지 않고 조성되는 펀드 / 프로젝트 펀드 : 투자대상을 미리 확정한 이후 조성되는 펀드
B8: ■ 주요 투자분야 : 투자의 주목적이 문화컨텐츠인 경우 "문화"로 기술, 그 외는 투자분야 기재(창업초기, 비대면, 소부장 등)
B9: ■ 공동운용사(Co-GP) 여부("Y","N")를 기재하고, "Y"일 경우 괄호에 해당 Co-GP명을 모두 기재
B10: ■ 산식변경 금지 (단, 행이 부족한 경우 행삽입 가능)
M12: (단위: 백만원, %)
B13: 펀드명 | C13: 투자기구 | D13: 조합성격 | E13: 주요 투자분야 | F13: 성립일 | G13: 청산예정일 | H13: 투자기간 | I13: 약정금액 | J13: 납입금액 | K13: 투자금액 | L13: Multiple | M13: Co-GP 여부 (Co-GP명)
B14: Fund 1호 | C14: 한국벤처투자조합 | D14: 블라인드펀드 | E14: ICT | F14: 43831 | G14: 47118 | H14: 4년 | I14: 25000 | J14: 20000 | K14: 18000 | L14: ='2-2-1.운용중인펀드 세부내역'!D37 -> 1.5 | M14: N
B15: Fund 2호 | C15: 한국벤처투자조합 | D15: 블라인드펀드 | E15: 문화 | F15: 44197 | G15: 47483 | H15: 4년 | I15: 25000 | J15: 20000 | K15: 18000 | L15: ='2-2-1.운용중인펀드 세부내역'!D58 -> 1.4166667 | M15: N
B16: Fund 3호 | C16: 부품소재전문투자조합 | D16: 블라인드펀드 | E16: 창업초기 | F16: 43101 | G16: 47118 | H16: 4년 | I16: 25000 | J16: 20000 | K16: 18000 | L16: ='2-2-1.운용중인펀드 세부내역'!D79 -> 1 | M16: Y(XXX사)
M17: N
M18: N
M19: N
M20: N
M21: N
M22: N
M23: N
M24: N
M25: N
M26: N
M27: N
M28: N
M29: N
B31: 합계 | I31: =SUM(I14:I29) -> 75000 | J31: =SUM(J14:J29) -> 60000 | K31: =SUM(K14:K29) -> 54000 | L31: =SUMPRODUCT(K14:K20,L14:L20)/K31 -> 1.3055556

Sheet 2-2-1.운용중인펀드 세부내역
B2: 제안사명 | C2: =표지!$D$4 -> xxx 운용사 | F2: 작성항목 | G2: 2-2-1. 운용중인펀드 세부내역
B4: <작성방식>
B5: ■ 공고전일 기준 운용중인 펀드 기재(청산중인 펀드 포함)
B6: ■ 회수금은 현금 기준의 원금+총이익(투자이익, 기타이익 등)을 기재
B7: ■ 미회수 투자자산의 "미회수 가치(C)"의 기재방법
B8: ① 상장기업(코스피, 코스닥, 코넥스) : 공고 전일 기준 종가를 기준으로 작성
B9: ② 비상장기업 : 매수 이후 공고전일 기준 2년이내 9.8억이상의 기관투자자(일반법인 제외)와의 거래(구주거래 or 증자 등 )가 있는 경우(주금납입이 공고전일까지 완료된 경우만 인정), 해당 시장가격 기준으로 작성하되 증빙서류(제출 필수)로 검증 가능한 건만 시장 가격으로 기재
B10: (증빙서류 예시) 신주발행동의공문(or 이사회의사록)+(실제 신주발행 여부 확인이 가능한)등기부등본, 구주 주식매매계약서 사본(or 피투자기업에서 발행한 구주거래확인서)등
B11: 비상장기업의 최근 2년 거래가가 존재하지 않을 경우, 투자원금 또는 감액손실 등이 반영된 장부가액 적용
B12: (미회수 가치 불인정) 옵션 권리가 행사되지 않은 CB, BW 의 전환가액(행사가액), 공정가치평가법(제3자 거래만 인정)에 의한 투자자산 가치 불인정 ※ 옵션 권리가 일부만 행사된 경우, 해당 전환주식수애 대해서만 제3자 거래가 인정
B13: ■ 투자형태는 보통주, RCPS, CB, BW 등 투자한 증권의 형태를 기재
B14: ■ 회수방법은 IPO, M&A, 만기상환, GP인수 등 실제 회수방식을 기재 (회수 중인 종목은 ‘미회수’로 기재)
B15: ■ ICT 여부는 산업분류에 따른 정보통신 관련 업종 및 사업내용에 ICT 융합 내용이 있을 경우 '여'로 표시
B16: ■ 산식변경 금지 (단, 행이 부족한 경우 행삽입 가능)
P18: (단위: 백만원, %)
B19: 펀드명 | C19: 투자자산 | D19: Multiple ((B+C)/A) | E19: 주요사업분야 | F19: ICT여부* | G19: 성립일 | H19: 청산 예정일 | I19: 투자 일자 | J19: 회수 일자 | K19: 투자원금 (A) | L19: 회수금 (B) | M19: 미회수 투자자산 | P19: 투자형태 | Q19: 회수방법
M20: 미회수원금 | N20: 미회수가치(C) | O20: 가치 산정 근거(상세히)
B21: Fund 1호 | C21: Company A | D21: =(L21+N21)/K21 -> 1.5 | E21: 바이오 | F21: 여 | G21: 42005 | H21: 45291 | I21: 20XX-01-01 | J21: 20XX-12-31 | K21: 1000 | L21: 0 | M21: 1000 | N21: 1500 | O21: 10,000주*150,000원(코스닥, 2023.5.17일 종가) | P21: 보통주 | Q21: IPO
B22: Fund 1호 | C22: Company B | D22: =(L22+N22)/K22 -> 1.75 | E22: 게임 | F22: 여 | G22: =G21 -> 42005 | H22: =H21 -> 45291 | I22: 20XX-01-01 | J22: 20XX-12-31 | K22: 4000 | L22: 7000 | M22: 0 | N22: 0 | P22: 보통주 | Q22: M&A
B23: Fund 1호 | C23: Company C | D23: =(L23+N23)/K23 -> 0.625 | E23: 유통 | F23: 여 | G23: =G22 -> 42005 | H23: =H22 -> 45291 | I23: 20XX-01-01 | K23: 4000 | L23: 2000 | M23: 2000 | N23: 500 | O23: 감액(감액 사유) | P23: RCPS | Q23: 미회수
B24: Fund 1호 | C24: Company D | D24: =(L24+N24)/K24 -> 2 | E24: IT제조 | F24: 여 | G24: =G23 -> 42005 | H24: =H23 -> 45291 | I24: 20XX-01-01 | K24: 3000 | L24: 5000 | M24: 1000 | N24: 1000 | O24: 투자원금(주식 전환시만 제3자 거래가 평가금액 반영) | P24: CB | Q24: 미회수
B25: Fund 1호 | C25: Company E | D25: =(L25+N25)/K25 -> 1.75 | E25: 물류 | F25: 부 | G25: =G24 -> 42005 | H25: =H24 -> 45291 | I25: 20XX-01-01 | J25: 41639 | K25: 4000 | L25: 3000 | M25: 2000 | N25: 4000 | O25: 투자기업 Company E가 XXX운용사로 부터 추가투자 유치(단가 20,000주*200,000원, 일자 2018. 1. 1) ※증빙제출 필수 | P25: RCPS | Q25: 미회수
B26: Fund 1호 | G26: =G25 -> 42005 | H26: =H25 -> 45291
B27: Fund 1호 | G27: =G26 -> 42005 | H27: =H26 -> 45291
B28: Fund 1호 | G28: =G27 -> 42005 | H28: =H27 -> 45291
B29: Fund 1호 | G29: =G28 -> 42005 | H29: =H28 -> 45291
B30: Fund 1호 | G30: =G29 -> 42005 | H30: =H29 -> 45291
B31: Fund 1호 | G31: =G30 -> 42005 | H31: =H30 -> 45291
B32: Fund 1호 | G32: =G31 -> 42005 | H32: =H31 -> 45291
B33: Fund 1호 | G33: =G32 -> 42005 | H33: =H32 -> 45291
B34: Fund 1호 | G34: =G33 -> 42005 | H34: =H33 -> 45291
B35: Fund 1호 | G35: =G34 -> 42005 | H35: =H34 -> 45291
B36: Fund 1호 | G36: =G35 -> 42005 | H36: =H35 -> 45291
D37: =(L37+N37)/K37 -> 1.5 | K37: =SUM(K21:K36) -> 16000 | L37: =SUM(L21:L36) -> 17000 | M37: =SUM(M21:M36) -> 6000 | N37: =SUM(N21:N36) -> 7000
P39: (단위: 백만원, %)
B40: 펀드명 | C40: 투자자산 | D40: Multiple ((B+C)/A) | E40: 주요사업분야 | F40: ICT여부* | G40: 성립일 | H40: 청산 예정일 | I40: 투자 일자 | J40: 회수 일자 | K40: 투자원금 (A) | L40: 회수금 (B) | M40: 미회수 투자자산 | P40: 투자형태 | Q40: 회수방법
M41: 미회수원금 | N41: 미회수가치(C) | O41: 가치 산정 근거
B42: Fund 2호 | C42: Company A | D42: =(L42+N42)/K42 -> 1.5 | E42: 바이오 | G42: 43101 | H42: 46387 | I42: 20xx-01-01 | J42: 20xx-12-31 | K42: 1000 | L42: 0 | M42: 1000 | N42: 1500 | O42: 10,000주*150,000원(코스닥, 2023.5.17일 종가) | P42: 보통주 | Q42: IPO
B43: Fund 2호 | C43: Company B | D43: =(L43+N43)/K43 -> 1.75 | E43: 게임 | G43: =G42 -> 43101 | H43: =H42 -> 46387 | I43: 20xx-01-01 | J43: 20xx-12-31 | K43: 4000 | L43: 7000 | M43: 0 | N43: 0 | P43: 보통주 | Q43: M&A
B44: Fund 2호 | C44: Company C | D44: =(L44+N44)/K44 -> 0.625 | E44: 교육 | G44: =G43 -> 43101 | H44: =H43 -> 46387 | I44: 20xx-01-01 | J44: 20xx-12-31 | K44: 4000 | L44: 2000 | M44: 2000 | N44: 500 | O44: 감액(감액 사유) | P44: RCPS | Q44: 미회수
...

Sheet 2-3.KIF펀드 운용실적
B2: 제안사명 | C2: =표지!$D$4 -> xxx 운용사 | E2: 작성항목 | F2: 2-3. KIF펀드 운용실적
B4: <작성방식>
B5: ■ KIF 출자 펀드 청산 이력이 있는 운용사만 기재
B6: ■ 회수금은 현금 기준의 원금+총이익(투자이익, 기타이익 등)을 기재
B7: ■ "분배금액* "은 관리보수 및 펀드운영 관련 제비용은 차감하되, 성과보수는 포함한 금액으로 기재 (수익금에 성과보수가 포함 되도록 기재)
B8: ■ 산식변경 금지 (단, 행이 부족한 경우 행삽입 가능)
M10: (단위: 백만원, %)
B11: 펀드명 | C11: 투자기구 | D11: 성립일 | E11: 청산일 | F11: 약정금액 | G11: 납입금액 (A) | H11: 투자금액 | I11: 분배금액* (B) | J11: 수익금 (C=B-A) | K11: Multiple (D=B/A) | L11: IRR | M11: Co-GP여부 (Co-GP명)
B12: Fund 1호 | C12: 신기술사업투자조합 | D12: 40179 | E12: 43465 | F12: 25000 | H12: 18000 | J12: =I12-G12 -> 0 | K12: =I12/G12 -> #DIV/0! | M12: N
B13: Fund 2호 | C13: 한국벤처투자조합 | D13: 40179 | E13: 43465 | F13: 25000 | H13: 18000 | J13: =I13-G13 -> 0 | K13: =I13/G13 -> #DIV/0! | M13: N
B14: Fund 3호 | C14: 중소기업창업투자조합 | D14: 40179 | E14: 43465 | F14: 25000 | H14: 18000 | J14: =I14-G14 -> 0 | K14: =I14/G14 -> #DIV/0! | M14: Y(XXX사)
B15: Fund 4호 | C15: 신기술사업투자조합 | D15: 37622 | E15: 40543 | F15: 25000 | H15: 18000 | J15: =I15-G15 -> 0 | K15: =I15/G15 -> #DIV/0! | M15: N

Sheet 2-4.본계정 투자내역
B2: 제안사명 | C2: =표지!$D$4 -> xxx 운용사 | F2: 작성항목 | G2: 2-4. 본계정 투자내역
B4: <작성방식>
B5: ■ 공고전일 기준 보유중인 본계정 투자자산 및 최근 4년 내(2020.1.1.~) 회수완료 건 기재
B6: ■ 회수금은 현금 기준의 원금+총이익(투자이익, 기타이익 등)을 기재
B7: ■ 미회수 투자자산의 "미회수 가치(C)"의 기재방법
B8: ① 상장기업(코스피, 코스닥, 코넥스) : 공고 전일 기준 종가를 기준으로 작성
B9: ② 비상장기업 : 매수 이후 공고전일 기준 2년이내 9.8억이상의 기관투자자(일반법인 제외)와의 거래(구주거래 or 증자 등 )가 있는 경우(주금납입이 공고전일까지 완료된 경우만 인정), 해당 시장가격 기준으로 작성
B10: (증빙서류 예시) 신주발행동의공문(or 이사회의사록)+(실제 신주발행 여부 확인이 가능한)등기부등본, 구주 주식매매계약서 사본(or 피투자기업에서 발행한 구주거래확인서)등
B11: 비상장기업의 최근 2년 거래가가 존재하지 않을 경우, 투자원금 또는 감액손실 등이 반영된 장부가액 적용
B12: (미회수 가치 불인정) 옵션 권리가 행사되지 않은 CB, BW 의 전환가액(행사가액), 공정가치평가법(제3자 거래만 인정)에 의한 투자자산 가치 불인정 ※ 옵션 권리가 일부만 행사된 경우, 해당 전환주식수애 대해서만 제3자 거래가 인정
B13: ■ 투자형태는 신주(보통주), 신주(RCPS), 구주, CB, BW, PF(프로젝트투자), 상장주식, LP 지분인수 등 투자한 형태를 기재
B14: ■ 회수방법은 IPO, M&A, 만기상환 등 실제 회수방식을 기재 (회수 중인 종목은 ‘미회수’로 기재)
B15: ■ 산식변경 금지 (단, 행이 부족한 경우 행삽입 가능)
M17: (단위: 백만원, %)
B18: 투자자산(기업명) | C18: Multiple ((B+C)/A) | D18: 주요 사업분야 | E18: 투자 일자 | F18: 회수 일자 | G18: 투자원금 (A) | H18: 회수금 (B) | I18: 미회수 투자자산 | L18: 투자형태 | M18: 회수방법
I19: 미회수원금 | J19: 미회수가치(C) | K19: 가치 산정 근거(상세히)
B20: Company A | C20: =(H20+J20)/G20 -> 1.5 | D20: 바이오 | E20: 20XX-01-01 | F20: 20XX-12-31 | G20: 1000 | H20: 0 | I20: 1000 | J20: 1500 | K20: 10,000주*150,000원(코스닥, 2022.7.25일 종가) | L20: 보통주 | M20: IPO
B21: Company B | C21: =(H21+J21)/G21 -> 1.75 | D21: 게임 | E21: 20XX-01-01 | F21: 20XX-12-31 | G21: 4000 | H21: 7000 | I21: 0 | J21: 0 | L21: 보통주 | M21: M&A
B22: Company C | C22: =(H22+J22)/G22 -> 0.625 | D22: 유통 | G22: 4000 | H22: 2000 | I22: 2000 | J22: 500 | K22: 감액(감액 사유) | L22: RCPS | M22: 미회수
C23: =(H23+J23)/G23 -> #DIV/0! | D23: IT제조
C24: =(H24+J24)/G24 -> #DIV/0! | D24: 물류
C25: =(H25+J25)/G25 -> #DIV/0!
C26: =(H26+J26)/G26 -> #DIV/0!
C27: =(H27+J27)/G27 -> #DIV/0!
C28: =(H28+J28)/G28 -> #DIV/0!
C29: =(H29+J29)/G29 -> #DIV/0!
C30: =(H30+J30)/G30 -> #DIV/0!
C31: =(H31+J31)/G31 -> #DIV/0!

Sheet 3-1.핵심운용인력 경력기간
B2: 제안사명 | C2: =표지!$D$4 -> xxx 운용사 | F2: 작성항목 | G2: 3-1. 핵심운용인력 경력기간
B4: <작성방식>
B5: ■ 모든 경력(NON-VC 기간 포함)을 기록하되, 반드시 경력 증빙서류로 확인이 되어야 함
B6: ■ 경력시작일 및 종료일이 월 단위로만 파악이 가능한 경우, 시작일 및 종료일은 해당월 1일로 기재
B8: 성명 | C8: 핵심운용인력 구분 | D8: 출생년도 | E8: 직장명 | F8: 부서명 | G8: 직위 | H8: 수행업무 기술(구체적으로) | I8: 경력시작일 | J8: 경력종료일 | K8: 경력년수
B9: 홍길동 | C9: 대표펀드매니저 | D9: 19XX | E9: AA운용 | F9: A팀 | G9: 팀장 | H9: 투자A팀 총괄 | I9: 42005 | J9: 44700 | K9: =(J9-I9)/365 -> 7.3835616
E10: AA운용 | F10: B팀 | G10: 과장 | H10: 심사역 | I10: 40179 | J10: 42369 | K10: =(J10-I10)/365 -> 6
E11: CC은행 | F11: C팀 | G11: 대리 | H11: 경영기획 | I11: 35551 | J11: 40543 | K11: =(J11-I11)/365 -> 13.676712
E12: 합계 | K12: =SUM(K9:K11) -> 27.060274
B14: 김철수 | C14: 핵심운용인력 | D14: 19XX | E14: AA운용 | F14: A팀 | G14: 팀장 | H14: 투자A팀 총괄 | I14: 43831 | J14: 44700 | K14: =(J14-I14)/365 -> 2.3808219
E15: AA운용 | F15: B팀 | G15: 과장 | H15: 심사역 | I15: 42736 | J15: 43830 | K15: =(J15-I15)/365 -> 2.9972603
E16: BB운용 | F16: B팀 | G16: 과장 | H16: 심사역 | I16: 42005 | J16: 42735 | K16: =(J16-I16)/365 -> 2
E17: BB운용 | F17: B팀 | G17: 과장 | H17: 심사역 | I17: 41275 | J17: 42004 | K17: =(J17-I17)/365 -> 1.9972603
E18: AA게임사 | F18: C팀 | G18: 대리 | H18: 경영기획 | I18: 40179 | J18: 41274 | K18: =(J18-I18)/365 -> 3
E19: 합계 | K19: =SUM(K14:K18) -> 12.375342
B21: 박영희 | C21: 핵심운용인력 | D21: 19XX | E21: AA운용 | F21: A팀 | G21: 팀장 | H21: 투자A팀 총괄 | I21: 43831 | J21: 44700 | K21: =(J21-I21)/365 -> 2.3808219
E22: EE운용 | F22: B팀 | G22: 부장 | H22: 심사역 | I22: 42736 | J22: 43830 | K22: =(J22-I22)/365 -> 2.9972603
E23: EE운용 | F23: B팀 | G23: 과장 | H23: 심사역 | I23: 42005 | J23: 42735 | K23: =(J23-I23)/365 -> 2
E24: EE운용 | F24: B팀 | G24: 대리 | H24: 심사역 | I24: 41275 | J24: 42004 | K24: =(J24-I24)/365 -> 1.9972603
E25: DD제조사 | F25: C팀 | G25: 대리 | H25: 인사총무 | I25: 40179 | J25: 41274 | K25: =(J25-I25)/365 -> 3
E26: 합계 | K26: =SUM(K21:K25) -> 12.375342

Sheet 3-2.핵심운용인력 개별기업 투자성과
B2: 제안사명 | C2: =표지!$D$4 -> xxx 운용사 | E2: 작성항목 | F2: 3-2. 핵심운용인력 개별기업 투자성과
B4: <작성방식>
B5: ■ 대상기간 : 2017. 1. 1 ~ 공고전일
B6: ■ 각각 핵심운용인력별로 대상기간내에 투자한 건만 작성(타 운용사 재직시의 투자, 회수 실적도 포함) ※성공, 실패 사례 모두 기재할 것
B7: ■ 직접적으로 투자기업의 발굴에 참여한 경우만 기재(벤처투자종합정보시스템VICS 보고 기준 기여율 기입(※누락사항 없는지 확인요망), 투심 보고서, 준법감시 보고서 등에 "발굴" 증빙이 가능한 건만 기재)
B8: ■ 회수금은 현금 기준의 원금+총이익(투자이익, 기타이익 등)을 기재
B9: ■ 미회수 투자자산의 "미회수 가치(C)"의 기재방법
B10: ① 상장기업(코스피, 코스닥, 코넥스) : 공고 전일 종가(7/25)를 기준으로 작성
B11: ② 비상장기업 : 매수 이후 공고전일 기준 2년이내 9.8억이상의 기관투자자(일반법인 제외)와의 거래(구주거래 or 증자 등 )가 있는 경우(주금납입이 공고전일까지 완료된 경우만 인정), 해당 시장가격 기준으로 작성하되 증빙서류(제출 필수)로 검증 가능한 건만 시장 가격으로 기재
B12: (증빙서류 예시) 신주발행동의공문(or 이사회의사록)+(실제 신주발행 여부 확인이 가능한)등기부등본, 구주 주식매매계약서 사본(or 피투자기업에서 발행한 구주거래확인서)등
B13: 비상장기업의 최근 2년 거래가가 존재하지 않을 경우, 투자원금 또는 감액손실 등이 반영된 장부가액 적용
B14: (미회수 가치 불인정) 옵션 권리가 행사되지 않은 CB, BW 의 전환가액(행사가액), 공정가치평가법(제3자 거래만 인정)에 의한 투자자산 가치 불인정 ※ 옵션 권리가 일부만 행사된 경우, 해당 전환주식수애 대해서만 제3자 거래가 인정
B15: ■ 투자형태는 보통주, RCPS, CB, BW 등 투자한 증권의 형태를 기재
... B17: ■ 산식변경 금지 (단, 행이 부족한 경우 행삽입 가능)
R19: (단위: 백만원, %)
B20: 성명 | C20: 운용펀드 | D20: 운용사 | E20: 투자기구 | F20: 투자기업 | G20: Multiple ((B+C)/A) | H20: 사업분야 | I20: 투자 일자 | J20: 회수 일자 | K20: 투자원금 (A) | L20: 회수금 (B) | M20: 미회수 투자자산 | P20: 투자형태 | Q20: 회수방법 | R20: 발굴기여율
M21: 미회수원금 | N21: 미회수 가치(C) | O21: 가치 산정 근거
B22: 홍길동 | C22: Fund 5호 | D22: OO운용사 | E22: 한국벤처투자조합 | F22: Company A | G22: =(L22+N22)/K22 -> 1.5 | H22: ICT제조 | I22: 42370 | J22: 43831 | K22: 1000 | L22: 0 | M22: 1000 | N22: 1500 | O22: 10,000주*150,000원(KOSDAQ, 2022.7.25 종가) | P22: 보통주 | Q22: 미회수 | R22: 0.5
B23: 홍길동 | C23: Fund 5호 | D23: OO운용사 | E23: 한국벤처투자조합 | F23: Company B | G23: =(L23+N23)/K23 -> 1.75 | H23: 유통 | I23: 42736 | J23: 44197 | K23: 4000 | L23: 3000 | M23: 2000 | N23: 4000 | O23: 20,000주*200,000원(기관투자자 10억이상 투자거래단가) | P23: 보통주 | Q23: 미회수 | R23: 0.5
B24: 홍길동 | C24: Fund 5호 | D24: OO운용사 | E24: 한국벤처투자조합 | F24: Company D | G24: =(L24+N24)/K24 -> 0.625 | H24: ICT서비스 | I24: 43101 | J24: 44562 | K24: 4000 | L24: 2000 | M24: 2000 | N24: 500 | O24: 감액(감액 사유) | P24: RCPS | Q24: 미회수 | R24: 0.3
B25: 홍길동 | C25: Fund 10호 | D25: AA운용사 | E25: 한국벤처투자조합 | F25: Company E | G25: =(L25+N25)/K25 -> 1 | H25: 게임 | I25: 44682 | J25: - | K25: 3000 | L25: 0 | M25: =+K25 -> 3000 | N25: =+M25 -> 3000 | O25: 투자원금 | P25: CB | Q25: 미회수 | R25: 0.8
F30: =COUNTA(F22:F29) -> 4 | G30: =(L30+N30)/K30 -> 1.1666667 | K30: =SUM(K22:K29) -> 12000 | L30: =SUM(L22:L29) -> 5000 | M30: =SUM(M22:M29) -> 8000 | N30: =SUM(N22:N29) -> 9000
B33: 성명 | C33: 운용펀드 | D33: 운용사 | E33: 투자기구 | F33: 투자기업 | G33: Multiple ((B+C)/A) | H33: 사업분야 | I33: 투자 일자 | J33: 회수 일자 | K33: 투자원금 (A) | L33: 회수금 (B) | M33: 미회수 투자자산 | P33: 투자형태 | Q33: 회수방법 | R33: 발굴기여도
M34: 미회수원금 | N34: 미회수 가치(C) | O34: 가치 산정 근거
B35: 김철수 | C35: Fund 4호 | D35: OO운용사 | E35: 한국벤처투자조합 | F35: Company D | G35: =(L35+N35)/K35 -> 1.5 | H35: ICT제조 | I35: 42370 | J35: - | K35: 1000 | L35: 0 | M35: 1000 | N35: 1500 | O35: 10,000주*150,000원(KOSDAQ, 2022.7.25 종가) | P35: 보통주 | Q35: 미회수 | R35: 1
B36: 김철수 | C36: Fund 4호 | D36: OO운용사 | E36: 한국벤처투자조합 | F36: Company E | G36: =(L36+N36)/K36 -> 1.75 | H36: 유통 | I36: 42736 | J36: 44197 | K36: 4000 | L36: 3000 | M36: 2000 | N36: 4000 | O36: 20,000주*200,000원(기관투자자 10억이상 투자거래단가) | P36: 보통주 | Q36: 미회수 | R36: 1
B37: 김철수 | C37: Fund 6호 | D37: BB운용사 | E37: 신기술사업투자조합 | F37: Company F | G37: =(L37+N37)/K37 -> 0.625 | H37: ICT서비스 | I37: 43101 | J37: 44562 | K37: 4000 | L37: 2000 | M37: 2000 | N37: 500 | O37: 감액(감액 사유) | P37: RCPS | Q37: 미회수 | R37: 1
B38: 김철수 | C38: Fund 6호 | D38: BB운용사 | E38: 벤처투자조합 | F38: Company G | G38: =(L38+N38)/K38 -> 1 | H38: 게임 | I38: 44682 | J38: - | K38: 3000 | L38: 0 | M38: =+K38 -> 3000 | N38: =+M38 -> 3000 | O38: 투자원금 | P38: CB | Q38: 미회수 | R38: 0.5
F43: =COUNTA(F35:F42) -> 4 | G43: =(L43+N43)/K43 -> 1.1666667 | K43: =SUM(K35:K42) -> 12000 | L43: =SUM(L35:L42) -> 5000 | M43: =SUM(M35:M42) -> 8000 | N43: =SUM(N35:N42) -> 9000
B45: 성명 | C45: 운용펀드 | D45: 운용사 | E45: 투자기구 | F45: 투자기업 | G45: Multiple ((B+C)/A) | H45: 사업분야 | I45: 투자 일자 | J45: 회수 일자 | K45: 투자원금 (A) | L45: 회수금 (B) | M45: 미회수 투자자산 | P45: 투자형태 | Q45: 회수방법 | R45: 발굴기여도
M46: 미회수원금 | N46: 미회수 가치(C) | O46: 가치 산정 근거
B47: 박영희 | C47: Fund 5호 | D47: OO운용사 | E47: 벤처투자조합 | F47: Company A | G47: =(L47+N47)/K47 -> 1.5 | H47: ICT제조 | I47: 42370 | J47: 43831 | K47: 1000 | L47: 0 | M47: 1000 | N47: 1500 | O47: 10,000주*150,000원(KOSDAQ, 2022.7.25 종가) | P47: 보통주 | Q47: 미회수 | R47: 0.5
B48: 박영희 | C48: Fund 5호 | D48: OO운용사 | E48: 한국벤처투자조합 | F48: Company B | G48: =(L48+N48)/K48 -> 1.75 | H48: 유통 | I48: 42736 | J48: 44197 | K48: 4000 | L48: 3000 | M48: 2000 | N48: 4000 | O48: 20,000주*200,000원(기관투자자 10억이상 투자거래단가) | P48: 보통주 | Q48: 미회수 | R48: 0.5
B49: 박영희 | C49: Fund 5호 | D49: OO운용사 | E49: 한국벤처투자조합 | F49: Company D | G49: =(L49+N49)/K49 -> 0.625 | H49: ICT서비스 | I49: 43101 | J49: 44562 | K49: 4000 | L49: 2000 | M49: 2000 | N49: 500 | O49: 감액(감액 사유) | P49: RCPS | Q49: 미회수 | R49: 0.7
B50: 박영희 | C50: Fund 10호 | D50: AA운용사 | E50: 한국벤처투자조합 | F50: Company E | G50: =(L50+N50)/K50 -> 1 | H50: 게임 | I50: 44682 | J50: - | K50: 3000 | L50: 0 | M50: =+K50 -> 3000 | N50: =+M50 -> 3000 | O50: 투자원금 | P50: CB | Q50: 미회수 | R50: 0.2
F55: =COUNTA(F47:F54) -> 4 | G55: =(L55+N55)/K55 -> 1.1666667 | K55: =SUM(K47:K54) -> 12000 | L55: =SUM(L47:L54) -> 5000 | M55: =SUM(M47:M54) -> 8000 | N55: =SUM(N47:N54) -> 9000

Sheet 3-3.핵심운용인력 운용중인펀드
B2: 제안사명 | C2: =표지!$D$4 -> xxx 운용사 | E2: 작성항목 | F2: 3-3. 핵심운용인력 운용중인 펀드
B4: <작성방식>
B5: ■ 공고전일 기준 핵심운용인력별로 운용중인 펀드(개인투자조합, PEF 등 포함) 기재(청산중인 펀드 포함)
B6: ■ 본 제안 조합 내역 포함 (성립일, 만기일, 청산예정일, 투자기간, 약정금액 등은 예정내역 기재)
B8: 44767 | N8: (단위: 백만원, %)
B9: 성명 | C9: 핵심운용인력 구분 | D9: 운용펀드 | E9: 지위 | F9: 성립일 | G9: 만기일 | H9: 투자기간 (종료일) | I9: 청산예정일 | J9: 약정금액 | K9: 투자집행률 | L9: 운용인력수 | M9: 투자예정자산 | N9: LP
B10: 홍길동 | C10: 대표펀드매니저 | D10: Fund 5호 | E10: 대표펀드매니저 | F10: 44582 | G10: 47484 | H10: =+F10+365*4 -> 46042 | I10: 45657 | J10: 30000 | K10: 0.3 | L10: 3 | M10: =IF(($B$8-H10)>0,0,IF((K10-0.8)>0,0,J10*(0.8-K10)))/L10 -> 5000 | N10: OOO, XXX, AAA
D11: Fund 10호 | E11: 핵심운용인력 | F11: 43831 | G11: 45292 | H11: =+F11+365*4 -> 45291 | I11: 45838 | J11: 40000 | K11: 0.8 | L11: 2 | M11: =IF(($B$8-H11)>0,0,IF((K11-0.8)>0,0,J11*(0.8-K11)))/L11 -> 0 | N11: BBB, CCC, DDD
D12: 본 제안 조합 | E12: 대표펀드매니저 | F12: 45261 | G12: 47817 | H12: 46721 | I12: =+G12 -> 47817 | J12: 50000 | K12: 0 | L12: 3 | M12: =IF(($B$8-H12)>0,0,IF((K12-0.8)>0,0,J12*(0.8-K12)))/L12 -> 13333.333
D14: =COUNTA(D10:D13) -> 3 | J14: =SUM(J10:J13) -> 120000 | M14: =SUM(M10:M13) -> 18333.333
B16: 김철수 | C16: 핵심운용인력 | D16: Fund 3호 | E16: 대표펀드매니저 | F16: 43466 | G16: 46387 | H16: =+F16+365*4 -> 44926 | I16: 46752 | J16: 35000 | K16: 0.7 | L16: 4 | M16: =IF(($B$8-H16)>0,0,IF((K16-0.8)>0,0,J16*(0.8-K16)))/L16 -> 875 | N16: XXX, AAA
D17: Fund 6호 | E17: 핵심운용인력 | F17: 43831 | G17: 45292 | H17: =+F17+365*4 -> 45291 | I17: 45838 | J17: 30000 | K17: 0.5 | L17: 3 | M17: =IF(($B$8-H17)>0,0,IF((K17-0.8)>0,0,J17*(0.8-K17)))/L17 -> 3000 | N17: OOO, AAA, CCC
D18: Fund 12호 | E18: 핵심운용인력 | F18: 43466 | G18: 46721 | H18: =+F18+365*3 -> 44561 | I18: 46356 | J18: 40000 | K18: 0.5 | L18: 3 | M18: =IF(($B$8-H18)>0,0,IF((K18-0.8)>0,0,J18*(0.8-K18)))/L18 -> 0
D19: 본 제안 조합 | E19: 핵심운용인력 | F19: 45261 | G19: 47817 | H19: 46721 | I19: =+G19 -> 47817 | J19: 50000 | K19: 0 | L19: 3 | M19: =IF(($B$8-H19)>0,0,IF((K19-0.8)>0,0,J19*(0.8-K19)))/L19 -> 13333.333
D21: =COUNTA(D16:D20) -> 4 | J21: =SUM(J16:J20) -> 155000 | M21: =SUM(M16:M20) -> 17208.333
B23: 박영희 | C23: 핵심운용인력 | D23: Fund 4호 | E23: 핵심운용인력 | F23: 43466 | G23: 46387 | H23: =+F23+365*4 -> 44926 | I23: 46752 | J23: 70000 | K23: 0.8 | L23: 3 | M23: =IF(($B$8-H23)>0,0,IF((K23-0.8)>0,0,J23*(0.8-K23)))/L23 -> 0 | N23: AAA, CCC, XXX
D24: Fund 7호 | E24: 핵심운용인력 | F24: 43831 | G24: 45292 | H24: =+F24+365*4 -> 45291 | I24: 45838 | J24: 35000 | K24: 0.75 | L24: 2 | M24: =IF(($B$8-H24)>0,0,IF((K24-0.8)>0,0,J24*(0.8-K24)))/L24 -> 875 | N24: DDD
D25: Fund 8호 | E25: 핵심운용인력 | F25: 43466 | G25: 46721 | H25: =+F25+365*3 -> 44561 | I25: 46356 | J25: 30000 | K25: 0.5 | L25: 2 | M25: =IF(($B$8-H25)>0,0,IF((K25-0.8)>0,0,J25*(0.8-K25)))/L25 -> 0 | N25: DDD, FFF
D26: 본 제안 조합 | E26: 핵심운용인력 | F26: 45261 | G26: 47817 | H26: 46721 | I26: =+G26 -> 47817 | J26: 50000 | K26: 0 | L26: 3 | M26: =IF(($B$8-H26)>0,0,IF((K26-0.8)>0,0,J26*(0.8-K26)))/L26 -> 13333.333
D28: =COUNTA(D23:D27) -> 4 | J28: =SUM(J23:J27) -> 185000 | M28: =SUM(M23:M27) -> 14208.333
B30: 합계 | D30: =SUM(D14,D21,D28) -> 11 | J30: =SUM(J14,J21,J28) -> 460000 | M30: =SUM(M14,M21,M28) -> 49750

Sheet 3-4.핵심운용인력 우수투자실적
B2: 제안사명 | C2: =표지!$D$4 -> xxx 운용사 | E2: 작성항목 | F2: 3-4. 핵심운용인력 우수 투자 실적
B4: <작성방식>
B5: ■ 대상기간 : 2017. 1. 1 ~ 공고전일
B6: ■ "3-2. sheet"에 기재한 투자기업 중 각 핵심운용인력의 우수 투자(발굴) 실적을 5개 이내(투자기업 기준, 투자 건수가 여러개일 경우 펀드 구분없이 합산하여 1개 행으로 작성)로 작성
B7: ※ 미회수 투자자산 금액(비상장기업)도 3-2. sheet와 동일하게 작성
K9: (단위: 백만원)
B10: 구분 | C10: 성 명 | D10: 투자자산 | E10: 펀드명 (복수펀드 시 한 셀에 펀드명 모두 기입) | F10: 최초투자일 | G10: 총 투자금액 | H10: 총 회수금액 | I10: 총 미회수원금 | J10: 총 미회수가치 | K10: 우수투자 사유(간략히)
B11: 대표펀드 매니저 | C11: 홍길동 | D11: Company A | E11: Fund 1호, Fund 2호 | F11: 42736 | G11: 1000 | H11: 1500 | J11: 0 | K11: (예시) 초기투자 후 성공적 밸류업
B12: 대표펀드 매니저 | C12: 홍길동 | D12: Company B | E12: Fund 3호 | F12: 43831 | G12: 1000 | H12: 0 | I12: 1000 | J12: 1000 | K12: (예시) 투자기업 간 네트워킹을 통한 사업연계 등
B13: 대표펀드 매니저 | C13: 홍길동 | D13: Company C | E13: Fund 1호, Fund 2호
B14: 대표펀드 매니저 | C14: 홍길동 | D14: Company E | E14: Fund 5호
B15: 대표펀드 매니저 | C15: 홍길동 | D15: Company F | E15: Fund 6호
B17: 합계 | G17: =SUM(G11:G15) -> 2000 | H17: =SUM(H11:H15) -> 1500 | J17: =SUM(J11:J15) -> 1000
B20: 구분 | C20: 성 명 | D20: 투자자산 | E20: 펀드명 (복수펀드 시 한 셀에 펀드명 모두 기입) | F20: 최초투자일 | G20: 총 투자금액 | H20: 총 회수금액 | I20: 총 미회수원금 | J20: 총 미회수가치 | K20: 우수투자 사유(간략히)
B21: 핵심운용인력 | C21: 김철수 | D21: Company A | E21: Fund 1호, Fund 2호 | G21: 1000 | H21: 1500 | J21: 500
B22: 핵심운용인력 | C22: 김철수 | D22: Company B | E22: Fund 3호
B23: 핵심운용인력 | C23: 김철수 | D23: Company C | E23: Fund 1호, Fund 2호
B24: 핵심운용인력 | C24: 김철수 | D24: Company E | E24: Fund 5호
B25: 핵심운용인력 | C25: 김철수 | D25: Company F | E25: Fund 6호
B27: 합계 | G27: =SUM(G21:G25) -> 1000 | H27: =SUM(H21:H25) -> 1500 | J27: =SUM(J21:J25) -> 500
B30: 구분 | C30: 성 명 | D30: 투자자산 | E30: 펀드명 (복수펀드 시 한 셀에 펀드명 모두 기입) | F30: 최초투자일 | G30: 총 투자금액 | H30: 총 회수금액 | I30: 총 미회수원금 | J30: 총 미회수가치 | K30: 우수투자 사유(간략히)
B31: 핵심운용인력 | C31: 박영희 | D31: Company A | E31: Fund 1호, Fund 2호 | G31: 1000 | H31: 1500 | J31: 0
B32: 핵심운용인력 | C32: 박영희 | D32: Company B | E32: Fund 3호
B33: 핵심운용인력 | C33: 박영희 | D33: Company C | E33: Fund 1호, Fund 2호
B34: 핵심운용인력 | C34: 박영희 | D34: Company E | E34: Fund 5호
B35: 핵심운용인력 | C35: 박영희 | D35: Company F | E35: Fund 6호
B37: 합계 | G37: =SUM(G31:G35) -> 1000 | H37: =SUM(H31:H35) -> 1500 | J37: =SUM(J31:J35) -> 0

Sheet 4-1. 벤처리움,통신사와 협력활동
B2: 제안사명 | C2: =표지!$D$4 -> xxx 운용사 | D2: 작성항목 | E2: 4-1. 벤처리움/통신사와 협력활동
B4: <작성방식>
B5: ■ KIF 내 벤처리움(KTOA창업지원센터) 입주기업 등에 대한 투자검토, 멘토링 등 협력활동 방안 자율 작성
B6: ■ 통신3사와 협력활동(벤처투자, 스타트업 육성사업 등) 실적 및 계획이 있을 경우 자율 작성
B9: 구분 | C9: 실적 및 제안내용
B10: (예시) 투자검토, 멘토링 등 협력활동 | C10: 예시 : 벤처리움 입주업체 데모데이 등 참가(심사위원, 자문위원 참여), 투자유치활동에 대한 멘토링 등 지원

Sheet 4-2. 팁스 등 선정실적
B2: 제안사명 | C2: =표지!$D$4 -> xxx 운용사 | D2: 작성항목 | E2: 4-2. 팁스 등 선정실적(초기스타트업, 벤처리움 펀드만 작성)
B4: <작성방식>
B5: ■ 대상기간 : 2022. 1. 1 ~ 공고전일
B6: ■ 제안사가 추천하여 피투작기업이 팁스, 윙스 등 민간 투자 연계형 정부, 지자체 지원 프로그램에 선정된 실적 작성
F9: (단위: 백만원)
B10: 신청일 | C10: 프로그램명 | D10: 선정 기업명 | E10: 제안사 투자금 | F10: 투자재원
B11: 44562 | C11: 예) 팁스, 스케일업 팁스, 경기WINGS 등 | D11: OOO | F11: 펀드/고유계정

Sheet 4-3. 벤처리움펀드 투자계획
B2: 제안사명 | C2: =표지!$D$4 -> xxx 운용사 | D2: 작성항목 | E2: 4-3. 벤처리움펀드 운영계획 (벤처리움 제안펀드만 작성)
B4: <작성방식>
B5: ■ 벤처리움펀드 중점투자 대상 : 벤처리움(구.KTOA 창업지원센터) 연관기업(입주/졸업기업, IR/데모데이 등 프로그램 참여 기업)
B6: ■ 중점투자(의무투자 비율) 달성 방안(벤처리움펀드 중점투자 대상 중 우수 투자업체 발굴 방안, 벤처리움 액셀러레이팅 사업과 연계한 투자·회수 방안) 자율 제시
B7: ■ 투자금액 배분(업체별 투자금액) 및 회수(후속투자 연계) 계획 등
B9: 구 분 | C9: 내 용
B10: 의무투자 달성 방안
B11: 투자금액 배분 계획 등
